BEGIN:VCALENDAR
VERSION:2.0
PRODID:-//wp-events-plugin.com//7.2.3.1//EN
TZID:Europe/Berlin
X-WR-TIMEZONE:Europe/Berlin
BEGIN:VEVENT
UID:19@nachlass-portal.de
DTSTART;TZID=Europe/Berlin:20260706T170000
DTEND;TZID=Europe/Berlin:20260706T175500
DTSTAMP:20260129T091825Z
URL:https://nachlass-portal.de/veranstaltungen/testamentsgestaltung-schrit
 t-fuer-schritt-zum-gemeinnuetzigen-testament-3/
SUMMARY:Testamentsgestaltung - Schritt für Schritt zum gemeinnützigen Tes
 tament
DESCRIPTION:
CATEGORIES:Online-Veranstaltung
END:VEVENT
BEGIN:VTIMEZONE
TZID:Europe/Berlin
X-LIC-LOCATION:Europe/Berlin
BEGIN:DAYLIGHT
DTSTART:20260329T030000
TZOFFSETFROM:+0100
TZOFFSETTO:+0200
TZNAME:CEST
END:DAYLIGHT
END:VTIMEZONE
END:VCALENDAR