BEGIN:VCALENDAR
VERSION:2.0
PRODID:-//wp-events-plugin.com//7.2.3.1//EN
TZID:Europe/Berlin
X-WR-TIMEZONE:Europe/Berlin
BEGIN:VEVENT
UID:29@nachlass-portal.de
DTSTART;TZID=Europe/Berlin:20261006T173000
DTEND;TZID=Europe/Berlin:20261006T193000
DTSTAMP:20260316T154401Z
URL:https://nachlass-portal.de/veranstaltungen/schritt-fuer-schritt-zum-ge
 meinnuetzigen-testament-6/
SUMMARY:Schritt für Schritt zum gemeinnützigen Testament
DESCRIPTION:Zu Fragen rund um das gemeinnützige Testament laden wir Sie he
 rzlich zu einem Informationsabend des Nachlass-Portals ein. Im Mittelpunkt
  steht ein 60-minütiger Vortrag eines Fachanwaltes für Erbrecht\, der ve
 rständlich und praxisnah aufzeigt\, wie ein rechtssicheres und gemeinnüt
 ziges Testament erstellt werden kann. Im Anschluss besteht Gelegenheit fü
 r Fragen und persönlichen Austausch mit den teilnehmenden Organisationen.
 \n&nbsp\;\n\nProgramm\n\n17:30 Uhr                      Begrü
 ßung und Vorstellung  \n\n17:40 Uhr                  
     Vortrag „Schritt für Schritt zum gemeinnützigen Testament“\n\
 n18:40 Uhr                    Geselliger Austausch mit den teiln
 ehmenden Organisationen\n\n19:30 Uhr                    Veransta
 ltungsende\n\n&nbsp\;\n\nMelden Sie sich jetzt an und kommen Sie Ihrem rec
 htsicheren und gemeinnützigen Testament einen Schritt näher.\n\n&nbsp\;
CATEGORIES:Veranstaltung vor Ort
LOCATION:Tagungshaus m|Centrum\, Buntentorsteinweg 24/ 26\, Bremen\, 28201\
 , Deutschland
X-APPLE-STRUCTURED-LOCATION;VALUE=URI;X-ADDRESS=Buntentorsteinweg 24/ 26\, 
 Bremen\, 28201\, Deutschland;X-APPLE-RADIUS=100;X-TITLE=Tagungshaus m|Cent
 rum:geo:0,0
END:VEVENT
BEGIN:VTIMEZONE
TZID:Europe/Berlin
X-LIC-LOCATION:Europe/Berlin
BEGIN:DAYLIGHT
DTSTART:20260329T030000
TZOFFSETFROM:+0100
TZOFFSETTO:+0200
TZNAME:CEST
END:DAYLIGHT
END:VTIMEZONE
END:VCALENDAR