BEGIN:VCALENDAR
VERSION:2.0
PRODID:-//wp-events-plugin.com//7.2.3.1//EN
TZID:Europe/Berlin
X-WR-TIMEZONE:Europe/Berlin
BEGIN:VEVENT
UID:28@nachlass-portal.de
DTSTART;TZID=Europe/Berlin:20260505T173000
DTEND;TZID=Europe/Berlin:20260505T193000
DTSTAMP:20260323T141939Z
URL:https://nachlass-portal.de/veranstaltungen/schritt-fuer-schritt-zum-ge
 meinnuetzigen-testament-5/
SUMMARY:Schritt für Schritt zum gemeinnützigen Testament
DESCRIPTION:[dig-glossar-skip]\nZu Fragen rund um das gemeinnützige Testam
 ent laden wir Sie herzlich zu einem Informationsabend des Nachlass-Portals
  ein. Im Mittelpunkt steht ein 60-minütiger Vortrag des Fachanwalts für
  Erbrecht Mario Viehweger. Er zeigt verständlich und praxisnah\, wie ein 
 rechtssicheres und gemeinnütziges Testament erstellt werden kann. Im Ansc
 hluss besteht Gelegenheit für Fragen und persönlichen Austausch mit den 
 teilnehmenden Organisationen.\n\nProgramm\n\n17:30 Uhr Begrüßung und Vo
 rstellung  \n\n17:40 Uhr Vortrag „Schritt für Schritt zum gemeinnüt
 zigen Testament“\n\n18:40 Uhr Geselliger Austausch mit den teilnehmende
 n Organisationen\n\n19:30 Uhr Veranstaltungsende\n\n&nbsp\;\n\nMelden Sie
  sich jetzt an und kommen Sie Ihrem rechtsicheren und gemeinnützigen Test
 ament einen Schritt näher.\n[/dig-glossar-skip]
CATEGORIES:Veranstaltung vor Ort
LOCATION:Frauenkirche Dresden\, An der Frauenkirche\, Dresden\, 01067\, Deu
 tschland
X-APPLE-STRUCTURED-LOCATION;VALUE=URI;X-ADDRESS=An der Frauenkirche\, Dresd
 en\, 01067\, Deutschland;X-APPLE-RADIUS=100;X-TITLE=Frauenkirche Dresden:g
 eo:0,0
END:VEVENT
BEGIN:VTIMEZONE
TZID:Europe/Berlin
X-LIC-LOCATION:Europe/Berlin
BEGIN:DAYLIGHT
DTSTART:20260329T030000
TZOFFSETFROM:+0100
TZOFFSETTO:+0200
TZNAME:CEST
END:DAYLIGHT
END:VTIMEZONE
END:VCALENDAR