BEGIN:VCALENDAR
VERSION:2.0
PRODID:-//wp-events-plugin.com//7.2.3.1//EN
TZID:Europe/Berlin
X-WR-TIMEZONE:Europe/Berlin
BEGIN:VEVENT
UID:26@nachlass-portal.de
DTSTART;TZID=Europe/Berlin:20261002T170000
DTEND;TZID=Europe/Berlin:20261002T175500
DTSTAMP:20260129T092119Z
URL:https://nachlass-portal.de/veranstaltungen/nachlassverantwortung-so-ku
 emmern-sich-gemeinnuetzige-organisationen-5/
SUMMARY:Nachlassverantwortung - So kümmern sich gemeinnützige Organisatio
 nen
DESCRIPTION:
CATEGORIES:Online-Veranstaltung
END:VEVENT
BEGIN:VTIMEZONE
TZID:Europe/Berlin
X-LIC-LOCATION:Europe/Berlin
BEGIN:DAYLIGHT
DTSTART:20260329T030000
TZOFFSETFROM:+0100
TZOFFSETTO:+0200
TZNAME:CEST
END:DAYLIGHT
END:VTIMEZONE
END:VCALENDAR